BEGIN:VCALENDAR
VERSION:2.0
PRODID:-//Renate Reichenberger - ECPv6.15.20//NONSGML v1.0//EN
CALSCALE:GREGORIAN
METHOD:PUBLISH
X-ORIGINAL-URL:https://renate-reichenberger.de
X-WR-CALDESC:Veranstaltungen für Renate Reichenberger
REFRESH-INTERVAL;VALUE=DURATION:PT1H
X-Robots-Tag:noindex
X-PUBLISHED-TTL:PT1H
BEGIN:VTIMEZONE
TZID:UTC
BEGIN:STANDARD
TZOFFSETFROM:+0000
TZOFFSETTO:+0000
TZNAME:UTC
DTSTART:20240101T000000
END:STANDARD
END:VTIMEZONE
BEGIN:VEVENT
DTSTART;TZID=UTC:20250508T190000
DTEND;TZID=UTC:20250511T183000
DTSTAMP:20260424T150225
CREATED:20211221T125646Z
LAST-MODIFIED:20250101T141940Z
UID:5387-1746730800-1746988200@renate-reichenberger.de
SUMMARY:Healing Touch 3: Online-Kurs
DESCRIPTION:Healing Touch 3 – Online\nDieser Kurs beginnt am Donnerstag\,\n08. Mai 2025 abends von 19.00 Uhr bis 21.30\,\nund geht am Sa./So. den 10. und 11. Mai von 9.00 bis 18.30 Uhr.\nDer Unterricht findet online über Zoom statt.\nVoraussetzung ist die vorangegangene Teilnahme am Healing Touch Kurs 1&2\n  \nDieser Kurs eröffnet für dich neue Dimensionen der Heilarbeit. Du lernst:\n\nFortgeschrittene Energiemethoden nach Barbara Brennan\ndas Lösen von Blockaden auf sieben Ebenen des Energiefeldes\nÄtherisches Klären;\nvertiefte Wirbelsäulenarbeit;\nenergetische Lymphdrainage;\nBesprechung der persönlichen Entwicklung des Behandlers\nKomplette Therapiefolge\nSensibilisierung der Wahrnehmungsfähigkeit/Feinspürigkeit\nfortgeschrittene Behandlungen im weiteren Bio-Energiefeld\n(Reinigen der Aura)\n\nAnmeldeformular (hier klicken) \n 
URL:https://renate-reichenberger.de/termin/healing-touch-kurs-3-online/
ATTACH;FMTTYPE=image/jpeg:https://renate-reichenberger.de/wp-content/uploads/2021/05/reichenberger_renate_201219-551.jpeg
END:VEVENT
BEGIN:VEVENT
DTSTART;TZID=UTC:20250519T190000
DTEND;TZID=UTC:20250523T130000
DTSTAMP:20260424T150225
CREATED:20240918T073536Z
LAST-MODIFIED:20250515T062924Z
UID:13910-1747681200-1748005200@renate-reichenberger.de
SUMMARY:Healing Touch Kurs 1 in der Steiermark
DESCRIPTION:Kursleitung: Renate Reichenberger\n \nFür diesen Kurs kann keine Anmeldung mehr entgegengenommen werden.\nHIER geht´s zur Warteliste.\nDiese Healing Touch Kurswoche in der schönen Reicherhube in der Steiermark (Nähe Ingeringsee)\nlässt neben den täglichen Kurseinheiten\nZeit für Wandern\, Kontakte und Entspannung –\nZeit\, die an einem kompakten Kurswochenende oft fehlt. \n  \nMehr Infos auf der Einladung\nDabei sind wir exklusiv in der (bis dahin) ehemaligen Jausenstation Reicherhube in Alleinlage. \nIn dieser Kurswoche wirst du das Grundlagen-Wissen über das menschliche Energiefeld\, \ndie Chakren und ihre Bedeutung für unsere Gesundheit erlernen. \nMit diesem erweiterten Verständnis für die energetischen Zusammenhänge kannst du sofort beginnen\, mit deinen Händen zu arbeiten. \n12 Basismethoden sind Bestandteil des ersten Kurses\, darunter mehrere Ganzkörpermethoden. Diese übst du mit einer Partnerin (oder einem Partner) deiner Wahl und erhältst sie auch.\nDu lernst somit\, das eigene Energiesystem und das von Freunden/Bekannten oder Klienten zu harmonisieren\, zu reinigen und zu aktivieren. Ich leite dich an\, mit den Händen (und entsprechenden Hilfsmitteln\, wie z.B. dem Pendel) verschiedene Energiequalitäten zu erspüren und diese qualitativ zu beurteilen. \nMit der Harmonisierung und Reinigung des Energiefeldes auf physischer\, emotionaler\, mentaler und spiritueller Ebene unterstützt du in geschütztem Rahmen die Wiederherstellung physischer und emotionaler Harmonie und reduzierst Stress – und das kann sich vielfältig auf deine Gesundheit/ die Gesundheit deiner Klienten auswirken! \nNach dem (16-stündigen) Kurs hast du das „Basiswerkzeug“ der modernen Energiearbeit zu deiner Verfügung! \nMehr zu den Inhalten des Healing Touch Kurs 1: \n https://renate-reichenberger.de/healing-touch-1-kurs/ \nPreise bei Einzelbuchung und die Teilnahmebedingungen findest du auf dem Anmeldeformular. \nEinfache Zimmer in der Reicherhube bitte selbst buchen (Infos hier)
URL:https://renate-reichenberger.de/termin/ht-kurs-1-steiermark/
LOCATION:Reicherhube\, Reicherhube\, Ingering 2\, 8731\, Austria
ATTACH;FMTTYPE=image/jpeg:https://renate-reichenberger.de/wp-content/uploads/2021/05/reichenberger_renate_201219-551.jpeg
END:VEVENT
END:VCALENDAR