BEGIN:VCALENDAR
VERSION:2.0
PRODID:-//Renate Reichenberger - ECPv6.15.20//NONSGML v1.0//EN
CALSCALE:GREGORIAN
METHOD:PUBLISH
X-ORIGINAL-URL:https://renate-reichenberger.de
X-WR-CALDESC:Veranstaltungen für Renate Reichenberger
REFRESH-INTERVAL;VALUE=DURATION:PT1H
X-Robots-Tag:noindex
X-PUBLISHED-TTL:PT1H
BEGIN:VTIMEZONE
TZID:UTC
BEGIN:STANDARD
TZOFFSETFROM:+0000
TZOFFSETTO:+0000
TZNAME:UTC
DTSTART:20250101T000000
END:STANDARD
END:VTIMEZONE
BEGIN:VEVENT
DTSTART;TZID=UTC:20261128T090000
DTEND;TZID=UTC:20261129T183000
DTSTAMP:20260420T113607
CREATED:20220420T124130Z
LAST-MODIFIED:20260406T122550Z
UID:6218-1795856400-1795977000@renate-reichenberger.de
SUMMARY:Healing Touch Kurs 2 Gilching bei München
DESCRIPTION:Themen im Healing Touch 2 Kurs:\nEs geht tiefer und du lernst energetische Rückenmethoden\nDu willst mehr wissen:\n Im Healing Touch Kurs Stufe 2 hast Du die Gelegenheit\, Deine Kenntnisse und Fähigkeiten in der Energiearbeit zu erweitern und zu verfeinern\, neue Methoden zu erlernen und wieder zwei Tage mit Gleichgesinnten zu genießen.\nBesonders freue ich mich auf die Erfahrungen\, die Du bis dahin mit Healing Touch machen konntest\, bestimmt sind Fragen aufgetaucht!?!\nDie Methoden des ersten Kurses werden alle (theoretisch) wiederholt und vertieft sowie die Gestaltung von individuellen Heilbehandlungen geübt….\nWir lernen das energetische Lösen von Wirbelblockierungen und eine komplette Rückenbehandlung (wunderbar!!!) und blicken mit verschiedenen Anamneseformen hinter die möglichen Ursachen der Symptome\, die du bis dahin in deinem Leben entwickelt hast.\nEs geht um Erkenntnis und Ent-Wicklung! \nAnmeldeformular
URL:https://renate-reichenberger.de/termin/healing-touch-kurs-2-gilching-bei-muenchen/
LOCATION:Yoga-Studio Gilching\, Weßlingerstr.36\, Gilching\, 82205\, Deutschland
ATTACH;FMTTYPE=image/jpeg:https://renate-reichenberger.de/wp-content/uploads/2021/05/reichenberger_renate_201219-551.jpeg
END:VEVENT
END:VCALENDAR