BEGIN:VCALENDAR
VERSION:2.0
PRODID:-//Renate Reichenberger - ECPv6.15.20//NONSGML v1.0//EN
CALSCALE:GREGORIAN
METHOD:PUBLISH
X-ORIGINAL-URL:https://renate-reichenberger.de
X-WR-CALDESC:Veranstaltungen für Renate Reichenberger
REFRESH-INTERVAL;VALUE=DURATION:PT1H
X-Robots-Tag:noindex
X-PUBLISHED-TTL:PT1H
BEGIN:VTIMEZONE
TZID:UTC
BEGIN:STANDARD
TZOFFSETFROM:+0000
TZOFFSETTO:+0000
TZNAME:UTC
DTSTART:20240101T000000
END:STANDARD
END:VTIMEZONE
BEGIN:VEVENT
DTSTART;TZID=UTC:20250716T190000
DTEND;TZID=UTC:20250716T210000
DTSTAMP:20260424T133012
CREATED:20240314T113808Z
LAST-MODIFIED:20250624T131629Z
UID:12171-1752692400-1752699600@renate-reichenberger.de
SUMMARY:Übungsabend Mitgliederbereich Basis
DESCRIPTION:Der Mitgliederbereich ist für Kursteilnehmer\, die bereits den Kurs\n „Nutze die Superkraft deiner Hände“ oder\n(mindestens) einen Healing Touch Kurs (steige hier ein) absolviert haben.\nHier kannst du die Übungsabende buchen! (klicken)\nDu hast während deines gesamten Buchungszeitraums Zugriff zu den Inhalten des Mitgliedsbereichs „Basis“.\nDie Übungsabende finden monatlich einmal statt\, meistens am dritten Mittwoch im Monat.\nWir wiederholen eine Basis-Methode aus HT Kurs 1\n(dabei gehe ich gerne auf Wünsche der Gruppe ein!)\,\nwir klären offene Fragen\, vernetzen uns\nund wir üben praktisch aneinander. \nEine Aufzeichnung wird dir im Anschluss zur Verfügung gestellt.\nZusätzlich bekommst du Zugang zu den Aufzeichnungen der letzten Übungsabende\nund weiteren Basis-Methoden (aus HT Kurs 1) als Video zum Nachschauen und  direkt mitmachen. \nmit Renate Reichenberger\nDu hast während deines gesamten Buchungszeitraums Zugriff zu den Inhalten des Mitgliedsbereichs „Basis“. \n>>>   Hier geht´s zur Buchung <<<\n>>>   Hier kommst du in deinen Mitgliederbereich und zum Zoom-Link. <<<
URL:https://renate-reichenberger.de/termin/uebungsabend-mitgliederbereich-basis-3/
ATTACH;FMTTYPE=image/png:https://renate-reichenberger.de/wp-content/uploads/2024/03/Mitgliederbereich_Basis_Titelbild_Thrivecart1.png
END:VEVENT
END:VCALENDAR